BEGIN:VCALENDAR
VERSION:2.0
PRODID:-//The Royal Astronomical Society of Canada – Mississauga Centre - ECPv6.15.11//NONSGML v1.0//EN
CALSCALE:GREGORIAN
METHOD:PUBLISH
X-ORIGINAL-URL:https://rasc.optunia.me
X-WR-CALDESC:Events for The Royal Astronomical Society of Canada – Mississauga Centre
REFRESH-INTERVAL;VALUE=DURATION:PT1H
X-Robots-Tag:noindex
X-PUBLISHED-TTL:PT1H
BEGIN:VTIMEZONE
TZID:America/Toronto
BEGIN:DAYLIGHT
TZOFFSETFROM:-0500
TZOFFSETTO:-0400
TZNAME:EDT
DTSTART:20190310T070000
END:DAYLIGHT
BEGIN:STANDARD
TZOFFSETFROM:-0400
TZOFFSETTO:-0500
TZNAME:EST
DTSTART:20191103T060000
END:STANDARD
BEGIN:DAYLIGHT
TZOFFSETFROM:-0500
TZOFFSETTO:-0400
TZNAME:EDT
DTSTART:20200308T070000
END:DAYLIGHT
BEGIN:STANDARD
TZOFFSETFROM:-0400
TZOFFSETTO:-0500
TZNAME:EST
DTSTART:20201101T060000
END:STANDARD
BEGIN:DAYLIGHT
TZOFFSETFROM:-0500
TZOFFSETTO:-0400
TZNAME:EDT
DTSTART:20210314T070000
END:DAYLIGHT
BEGIN:STANDARD
TZOFFSETFROM:-0400
TZOFFSETTO:-0500
TZNAME:EST
DTSTART:20211107T060000
END:STANDARD
END:VTIMEZONE
BEGIN:VEVENT
DTSTART;TZID=America/Toronto:20200924T200000
DTEND;TZID=America/Toronto:20200924T230000
DTSTAMP:20260419T231539
CREATED:20200610T004604Z
LAST-MODIFIED:20200610T004604Z
UID:726-1600977600-1600988400@rasc.optunia.me
SUMMARY:Astronomy Course Night 4 - Riverwood
DESCRIPTION:Arrive at 8:00pm to become involved in setting up telescopes while there is still daylight.
URL:https://rasc.optunia.me/event/astronomy-course-night-4-riverwood/
LOCATION:Riverwood Park Astronomy Course\, 4300 Riverwood Park Lane\, Mississauga\, Ontario\, L5C 2S7\, Canada
CATEGORIES:Astronomy Course
END:VEVENT
BEGIN:VEVENT
DTSTART;TZID=America/Toronto:20200917T200000
DTEND;TZID=America/Toronto:20200917T230000
DTSTAMP:20260419T231539
CREATED:20200610T004458Z
LAST-MODIFIED:20200610T004458Z
UID:724-1600372800-1600383600@rasc.optunia.me
SUMMARY:Astronomy Course Night 3 - Riverwood
DESCRIPTION:Arrive at 8:00pm to become involved in setting up telescopes while there is still daylight.
URL:https://rasc.optunia.me/event/astronomy-course-night-3-riverwood/
LOCATION:Riverwood Park Astronomy Course\, 4300 Riverwood Park Lane\, Mississauga\, Ontario\, L5C 2S7\, Canada
CATEGORIES:Astronomy Course
END:VEVENT
BEGIN:VEVENT
DTSTART;TZID=America/Toronto:20200910T200000
DTEND;TZID=America/Toronto:20200910T230000
DTSTAMP:20260419T231539
CREATED:20200610T004347Z
LAST-MODIFIED:20200610T004347Z
UID:721-1599768000-1599778800@rasc.optunia.me
SUMMARY:Astronomy Course Night 2 - Riverwood
DESCRIPTION:Arrive at 8:00pm to become involved in setting up telescopes while there is still daylight.
URL:https://rasc.optunia.me/event/astronomy-course-night-2-riverwood/
LOCATION:Riverwood Park Astronomy Course\, 4300 Riverwood Park Lane\, Mississauga\, Ontario\, L5C 2S7\, Canada
CATEGORIES:Astronomy Course
END:VEVENT
BEGIN:VEVENT
DTSTART;TZID=America/Toronto:20200903T200000
DTEND;TZID=America/Toronto:20200903T230000
DTSTAMP:20260419T231539
CREATED:20200610T003020Z
LAST-MODIFIED:20200610T004138Z
UID:717-1599163200-1599174000@rasc.optunia.me
SUMMARY:Astronomy Course Night 1 - Riverwood
DESCRIPTION:Arrive at 8:00pm to become involved in setting up telescopes while there is still daylight.
URL:https://rasc.optunia.me/event/astronomy-course-night-1-riverwood/
LOCATION:Riverwood Park Astronomy Course\, 4300 Riverwood Park Lane\, Mississauga\, Ontario\, L5C 2S7\, Canada
CATEGORIES:Astronomy Course
END:VEVENT
END:VCALENDAR