BEGIN:VCALENDAR
VERSION:2.0
PRODID:-//The Royal Astronomical Society of Canada – Mississauga Centre - ECPv6.15.11//NONSGML v1.0//EN
CALSCALE:GREGORIAN
METHOD:PUBLISH
X-WR-CALNAME:The Royal Astronomical Society of Canada – Mississauga Centre
X-ORIGINAL-URL:https://rasc.optunia.me
X-WR-CALDESC:Events for The Royal Astronomical Society of Canada – Mississauga Centre
REFRESH-INTERVAL;VALUE=DURATION:PT1H
X-Robots-Tag:noindex
X-PUBLISHED-TTL:PT1H
BEGIN:VTIMEZONE
TZID:America/Toronto
BEGIN:DAYLIGHT
TZOFFSETFROM:-0500
TZOFFSETTO:-0400
TZNAME:EDT
DTSTART:20190310T070000
END:DAYLIGHT
BEGIN:STANDARD
TZOFFSETFROM:-0400
TZOFFSETTO:-0500
TZNAME:EST
DTSTART:20191103T060000
END:STANDARD
BEGIN:DAYLIGHT
TZOFFSETFROM:-0500
TZOFFSETTO:-0400
TZNAME:EDT
DTSTART:20200308T070000
END:DAYLIGHT
BEGIN:STANDARD
TZOFFSETFROM:-0400
TZOFFSETTO:-0500
TZNAME:EST
DTSTART:20201101T060000
END:STANDARD
BEGIN:DAYLIGHT
TZOFFSETFROM:-0500
TZOFFSETTO:-0400
TZNAME:EDT
DTSTART:20210314T070000
END:DAYLIGHT
BEGIN:STANDARD
TZOFFSETFROM:-0400
TZOFFSETTO:-0500
TZNAME:EST
DTSTART:20211107T060000
END:STANDARD
BEGIN:DAYLIGHT
TZOFFSETFROM:-0500
TZOFFSETTO:-0400
TZNAME:EDT
DTSTART:20220313T070000
END:DAYLIGHT
BEGIN:STANDARD
TZOFFSETFROM:-0400
TZOFFSETTO:-0500
TZNAME:EST
DTSTART:20221106T060000
END:STANDARD
BEGIN:DAYLIGHT
TZOFFSETFROM:-0500
TZOFFSETTO:-0400
TZNAME:EDT
DTSTART:20230312T070000
END:DAYLIGHT
BEGIN:STANDARD
TZOFFSETFROM:-0400
TZOFFSETTO:-0500
TZNAME:EST
DTSTART:20231105T060000
END:STANDARD
END:VTIMEZONE
BEGIN:VEVENT
DTSTART;TZID=America/Toronto:20220609T210000
DTEND;TZID=America/Toronto:20220609T223000
DTSTAMP:20260419T164623
CREATED:20220527T163404Z
LAST-MODIFIED:20220609T170456Z
UID:1928-1654808400-1654813800@rasc.optunia.me
SUMMARY:Public Star Party at The Riverwood Conservancy
DESCRIPTION:An evening of Stargazing at the Riverwood Conservancy \nDue to forecast of clouds Thursday evening\, we will cancel the public viewing session this week.  We will try again July 5. \n 
URL:https://rasc.optunia.me/event/public-star-party-at-the-riverwood-conservancy-2/
LOCATION:Riverwood Park\, Mississauga\, 4300 Riverwood Park Lane\, Mississauga\, Ontario\, L5C 2S7\, Canada
CATEGORIES:Star Party
ATTACH;FMTTYPE=image/jpeg:https://rasc.optunia.me/wp-content/uploads/2022/04/Riverwood-Aug-28.jpg
END:VEVENT
BEGIN:VEVENT
DTSTART;TZID=America/Toronto:20220510T203000
DTEND;TZID=America/Toronto:20220510T220000
DTSTAMP:20260419T164623
CREATED:20220507T143648Z
LAST-MODIFIED:20220507T143817Z
UID:1899-1652214600-1652220000@rasc.optunia.me
SUMMARY:Public Star Party at The Riverwood Conservancy
DESCRIPTION:An evening of Stargazing at the Riverwood Conservancy \nCost is $5 per person for the general public. \nRASC members are free but you must register at the Riverwood website. \nIf the weather is cloudy\, the event will be postponed 24 hours.
URL:https://rasc.optunia.me/event/public-star-party-at-the-riverwood-conservancy/
LOCATION:Ontario
CATEGORIES:Star Party
ATTACH;FMTTYPE=image/jpeg:https://rasc.optunia.me/wp-content/uploads/2022/04/Riverwood-Aug-28.jpg
END:VEVENT
BEGIN:VEVENT
DTSTART;TZID=America/Toronto:20220412T200000
DTEND;TZID=America/Toronto:20220412T213000
DTSTAMP:20260419T164623
CREATED:20220404T144349Z
LAST-MODIFIED:20220412T163802Z
UID:1864-1649793600-1649799000@rasc.optunia.me
SUMMARY:Public Star Party
DESCRIPTION:An evening of Stargazing at the Riverwood Conservancy.  Please visit the website below to register prior to attending.
URL:https://rasc.optunia.me/event/public-star-party/
LOCATION:Ontario
CATEGORIES:Star Party
ATTACH;FMTTYPE=image/jpeg:https://rasc.optunia.me/wp-content/uploads/2022/04/Riverwood-Aug-28.jpg
END:VEVENT
BEGIN:VEVENT
DTSTART;TZID=America/Toronto:20200922T210000
DTEND;TZID=America/Toronto:20200922T230000
DTSTAMP:20260419T164623
CREATED:20200610T002314Z
LAST-MODIFIED:20200905T022330Z
UID:711-1600808400-1600815600@rasc.optunia.me
SUMMARY:Riverwood Public Star Party
DESCRIPTION:Join us at Riverwood Park for a night under the stars.  This event is open to the public and there is no charge.  Weather permitting\, we will have a variety of telescopes set up and have a variety of objects to view. \nPlease check back after 4pm on the day of the event to see if the event is going forward.  It may be cancelled due to bad viewing conditions.
URL:https://rasc.optunia.me/event/riverwood-public-star-party/
LOCATION:Riverwood Park\, Mississauga\, 4300 Riverwood Park Lane\, Mississauga\, Ontario\, L5C 2S7\, Canada
CATEGORIES:Star Party
END:VEVENT
BEGIN:VEVENT
DTSTART;TZID=America/Toronto:20200825T090000
DTEND;TZID=America/Toronto:20200825T230000
DTSTAMP:20260419T164623
CREATED:20200610T002150Z
LAST-MODIFIED:20200610T002334Z
UID:709-1598346000-1598396400@rasc.optunia.me
SUMMARY:Riverwood Public Star Party
DESCRIPTION:Join us at Riverwood Park for a night under the stars.  This event is open to the public and there is no charge.  Weather permitting\, we will have a variety of telescopes set up and have a variety of objects to view. \nPlease check back after 4pm on the day of the event to see if the event is going forward.  It may be cancelled due to bad viewing conditions.
URL:https://rasc.optunia.me/event/riverwood-star-party-2/
LOCATION:Riverwood Park\, Mississauga\, 4300 Riverwood Park Lane\, Mississauga\, Ontario\, L5C 2S7\, Canada
CATEGORIES:Star Party
END:VEVENT
BEGIN:VEVENT
DTSTART;TZID=America/Toronto:20200728T090000
DTEND;TZID=America/Toronto:20200728T230000
DTSTAMP:20260419T164623
CREATED:20200610T000933Z
LAST-MODIFIED:20200626T001559Z
UID:704-1595926800-1595977200@rasc.optunia.me
SUMMARY:Riverwood Public Star Party
DESCRIPTION:The Riverwood Star Party is open to the public.  Come and share a night under the stars with us and experience a variety of telescopes and sky objects. \n  \nBubblle Nebula by Dave Dev – 2016
URL:https://rasc.optunia.me/event/riverwood-star-party/
LOCATION:Riverwood Park\, Mississauga\, 4300 Riverwood Park Lane\, Mississauga\, Ontario\, L5C 2S7\, Canada
CATEGORIES:Star Party
END:VEVENT
BEGIN:VEVENT
DTSTART;TZID=America/Toronto:20200428T210000
DTEND;TZID=America/Toronto:20200428T230000
DTSTAMP:20260419T164623
CREATED:20200401T025915Z
LAST-MODIFIED:20200401T032635Z
UID:440-1588107600-1588114800@rasc.optunia.me
SUMMARY:Public Star Party at Riverwood
DESCRIPTION:
URL:https://rasc.optunia.me/event/star-party-at-riverwood/
LOCATION:Ontario
CATEGORIES:Star Party
END:VEVENT
END:VCALENDAR